BEGIN:VCALENDAR
VERSION:2.0
PRODID:-//ChamberMaster//Event Calendar 2.0//EN
METHOD:PUBLISH
X-PUBLISHED-TTL:P3D
REFRESH-INTERVAL:P3D
CALSCALE:GREGORIAN
BEGIN:VEVENT
DTSTART:20141114T150000Z
DTEND:20141114T160000Z
X-MICROSOFT-CDO-ALLDAYEVENT:FALSE
SUMMARY:GlowRun Committee
DESCRIPTION:GlowRun Committee (Rankin Chamber\, 101 Service Dr\, Brandon)\n\nStuff runner packets
X-ALT-DESC;FMTTYPE=text/html:GlowRun Committee (Rankin Chamber\, 101 Service Dr\, Brandon)<br />\nStuff runner packets
LOCATION:
UID:e.1412.751
SEQUENCE:3
DTSTAMP:20260422T024812Z
URL:https://business.rankinchamber.com/events/details/glowrun-committee-11-14-2014-751
END:VEVENT

END:VCALENDAR
