BEGIN:VCALENDAR
VERSION:2.0
PRODID:-//ChamberMaster//Event Calendar 2.0//EN
METHOD:PUBLISH
X-PUBLISHED-TTL:P3D
REFRESH-INTERVAL:P3D
CALSCALE:GREGORIAN
BEGIN:VEVENT
DTSTART:20120604T140000Z
DTEND:20120604T150000Z
X-MICROSOFT-CDO-ALLDAYEVENT:FALSE
SUMMARY:GO/RC: Bouquets of Pearl
DESCRIPTION:Ribbon Cutting & Grand Opening: Bouquets of Pearl\n\n	436 N Beirdman Rd\, Pearl
X-ALT-DESC;FMTTYPE=text/html:<p>\n	Ribbon Cutting &amp\; Grand Opening: Bouquets of Pearl<br />\n	436 N Beirdman Rd\, Pearl</p>\n
LOCATION:
UID:e.1412.142
SEQUENCE:3
DTSTAMP:20260422T012939Z
URL:https://business.rankinchamber.com/events/details/go-rc-bouquets-of-pearl-06-04-2012-142
END:VEVENT

END:VCALENDAR
