BEGIN:VCALENDAR
VERSION:2.0
PRODID:-//ChamberMaster//Event Calendar 2.0//EN
METHOD:PUBLISH
X-PUBLISHED-TTL:P3D
REFRESH-INTERVAL:P3D
CALSCALE:GREGORIAN
BEGIN:VEVENT
DTSTART;VALUE=DATE:20140320
DTEND;VALUE=DATE:20140321
TRANSP:TRANSPARENT
X-MICROSOFT-CDO-ALLDAYEVENT:TRUE
SUMMARY:Golf Tournament
DESCRIPTION:Rankin Chamber Golf Tournament (The Refuge\, Flowood) 1:00 pm shotgun start. For more Info: Ashlee Coley\, acoley@rankinchamber.com or call 601.825.2268
X-ALT-DESC;FMTTYPE=text/html:Rankin Chamber Golf Tournament (The Refuge\, Flowood) 1:00 pm shotgun start. For more Info: Ashlee Coley\, acoley@rankinchamber.com or call 601.825.2268
LOCATION:
UID:e.1412.602
SEQUENCE:3
DTSTAMP:20260422T155347Z
URL:https://business.rankinchamber.com/events/details/golf-tournament-03-20-2014-602
END:VEVENT

END:VCALENDAR
