BEGIN:VCALENDAR
VERSION:2.0
PRODID:-//ChamberMaster//Event Calendar 2.0//EN
METHOD:PUBLISH
X-PUBLISHED-TTL:P3D
REFRESH-INTERVAL:P3D
CALSCALE:GREGORIAN
BEGIN:VEVENT
DTSTART;VALUE=DATE:20150403
DTEND;VALUE=DATE:20150404
TRANSP:TRANSPARENT
X-MICROSOFT-CDO-ALLDAYEVENT:TRUE
SUMMARY:Good Friday
DESCRIPTION:Good Friday (Chamber closed)
X-ALT-DESC;FMTTYPE=text/html:Good Friday (Chamber closed)
LOCATION:
UID:e.1412.1900
SEQUENCE:3
DTSTAMP:20260421T184413Z
URL:https://business.rankinchamber.com/events/details/good-friday-04-03-2015-1900
END:VEVENT

END:VCALENDAR
