BEGIN:VCALENDAR
VERSION:2.0
PRODID:-//ChamberMaster//Event Calendar 2.0//EN
METHOD:PUBLISH
X-PUBLISHED-TTL:P3D
REFRESH-INTERVAL:P3D
CALSCALE:GREGORIAN
BEGIN:VEVENT
DTSTART;VALUE=DATE:20140418
DTEND;VALUE=DATE:20140419
TRANSP:TRANSPARENT
X-MICROSOFT-CDO-ALLDAYEVENT:TRUE
SUMMARY:Good Friday
DESCRIPTION:Good Friday (Chamber closed)
X-ALT-DESC;FMTTYPE=text/html:Good Friday (Chamber closed)
LOCATION:
UID:e.1412.624
SEQUENCE:3
DTSTAMP:20260422T135042Z
URL:https://business.rankinchamber.com/events/details/good-friday-04-18-2014-624
END:VEVENT

END:VCALENDAR
