BEGIN:VCALENDAR
VERSION:2.0
PRODID:-//ChamberMaster//Event Calendar 2.0//EN
METHOD:PUBLISH
X-PUBLISHED-TTL:P3D
REFRESH-INTERVAL:P3D
CALSCALE:GREGORIAN
BEGIN:VEVENT
DTSTART:20130529T140000Z
DTEND:20130529T190000Z
X-MICROSOFT-CDO-ALLDAYEVENT:FALSE
SUMMARY:Job Fair ( Muse Center\, Hinds CC Rankin Campus )
DESCRIPTION:Job Fair ( Muse Center\, Hinds CC Rankin Campus )
X-ALT-DESC;FMTTYPE=text/html:Job Fair ( Muse Center\, Hinds CC Rankin Campus )
LOCATION:
UID:e.1412.372
SEQUENCE:3
DTSTAMP:20260423T075530Z
URL:https://business.rankinchamber.com/events/details/job-fair-muse-center-hinds-cc-rankin-campus-05-29-2013-372
END:VEVENT

END:VCALENDAR
