BEGIN:VCALENDAR
VERSION:2.0
PRODID:-//ChamberMaster//Event Calendar 2.0//EN
METHOD:PUBLISH
X-PUBLISHED-TTL:P3D
REFRESH-INTERVAL:P3D
CALSCALE:GREGORIAN
BEGIN:VEVENT
DTSTART:20260214T010000Z
DTEND:20260214T050000Z
X-MICROSOFT-CDO-ALLDAYEVENT:FALSE
SUMMARY:Krewe de Roux 2026: Parade & Block Party
DESCRIPTION:The Rankin County Chamber and City of Brandon present the 7th Annual Krewe de Roux Festival! The Parade & Block Party will be held in Historic Downtown Brandon on Friday\, Feb. 13th\, 2026\, from 6:30pm - 10pm. After the parade of floats\, there will be a free public concert by The Mustache Band\, on the Big Stage on Dining Street\, drawing a crowd of all ages! Local restaurants such as Genna Benna\, Mudbugs 042\, Burgers Blues Barbecue\, The Cleaners by Pizza Shack\, and The Gallows Bar will stay open late\, providing a spot for when you need great food and beverages.\nKrewe de Roux provides the opportunity to continue enhancing the Leadership Rankin and Youth Leadership programs year over year. Thank you for your support!
X-ALT-DESC;FMTTYPE=text/html:<br />\n<span style="color:#000000\;"><span style="font-size:14px\;"><span style="font-family:arial\;"><strong>The Rankin County Chamber and City of Brandon present the 7th Annual Krewe de Roux Festival!&nbsp\;</strong>The Parade &amp\; Block Party will be held in Historic Downtown Brandon on Friday\, Feb. 13th\, 2026\, from 6:30pm - 10pm. <span class="OYPEnA text-decoration-none text-strikethrough-none">After the parade of floats\, there will be a free public concert by The Mustache Band\, on the Big Stage on Dining Street\, drawing a crowd of all ages! Local restaurants such as Genna Benna\, Mudbugs 042\, Burgers Blues Barbecue\, The Cleaners by Pizza Shack\, and The Gallows Bar will stay open late\, providing a spot for when you need great food and beverages.</span></span></span></span>\n<p class="_04xlpA direction-ltr align-start para-style-body" style="color: rgb(63\, 44\, 118)\; font-family: &quot\;YAFdJljEuFc 0&quot\;\, _fb_\, auto\; --font-size: 19.1331px\; --line-height: 1.11\; line-height: 21px\;"><span style="color: rgb(0\, 0\, 0)\;"><span style="font-size: 14px\;"><strong style="font-family: arial\; color: rgb(51\, 51\, 51)\;">Krewe de Roux provides the opportunity to continue enhancing&nbsp\;the&nbsp\;Leadership Rankin and Youth Leadership&nbsp\;programs year over year. Thank you for your support!</strong></span></span></p>\n
LOCATION:Historic Downtown Brandon Parade Line Staging: Brandon Middle School Parking Lot
UID:e.1412.3771
SEQUENCE:3
DTSTAMP:20260422T182854Z
URL:https://business.rankinchamber.com/events/details/krewe-de-roux-2026-parade-block-party-3771
END:VEVENT

END:VCALENDAR
