BEGIN:VCALENDAR
VERSION:2.0
PRODID:-//ChamberMaster//Event Calendar 2.0//EN
METHOD:PUBLISH
X-PUBLISHED-TTL:P3D
REFRESH-INTERVAL:P3D
CALSCALE:GREGORIAN
BEGIN:VEVENT
DTSTART:20130314T163000Z
DTEND:20130314T180000Z
X-MICROSOFT-CDO-ALLDAYEVENT:FALSE
SUMMARY:L&L: Business Series "Insurance"
DESCRIPTION:Lunch & Learn: Business Series "Insurance"\n\nBrandon Public Library\, Brandon MS\n\n$10 pay at the door - our speaker is John Dorsa\, State Farm Insurance Agent
X-ALT-DESC;FMTTYPE=text/html:Lunch &amp\; Learn: Business Series &quot\;Insurance&quot\;<br />\nBrandon Public Library\, Brandon MS<br />\n$10 pay at the door - our speaker is John Dorsa\, State Farm Insurance Agent
LOCATION:
UID:e.1412.312
SEQUENCE:3
DTSTAMP:20260423T114143Z
URL:https://business.rankinchamber.com/events/details/l-l-business-series-insurance-03-14-2013-312
END:VEVENT

END:VCALENDAR
