BEGIN:VCALENDAR
VERSION:2.0
PRODID:-//ChamberMaster//Event Calendar 2.0//EN
METHOD:PUBLISH
X-PUBLISHED-TTL:P3D
REFRESH-INTERVAL:P3D
CALSCALE:GREGORIAN
BEGIN:VEVENT
DTSTART:20130516T163000Z
DTEND:20130516T180000Z
X-MICROSOFT-CDO-ALLDAYEVENT:FALSE
SUMMARY:L&L: Fowler Chiropractic ( Brandon Library )
DESCRIPTION:L & L: Fowler Chiropractic ( Brandon Library )
X-ALT-DESC;FMTTYPE=text/html:L &amp\; L: Fowler Chiropractic ( Brandon Library )
LOCATION:
UID:e.1412.370
SEQUENCE:3
DTSTAMP:20260423T075209Z
URL:https://business.rankinchamber.com/events/details/l-l-fowler-chiropractic-brandon-library-05-16-2013-370
END:VEVENT

END:VCALENDAR
