BEGIN:VCALENDAR
VERSION:2.0
PRODID:-//ChamberMaster//Event Calendar 2.0//EN
METHOD:PUBLISH
X-PUBLISHED-TTL:P3D
REFRESH-INTERVAL:P3D
CALSCALE:GREGORIAN
BEGIN:VEVENT
DTSTART:20140123T173000Z
DTEND:20140123T190000Z
X-MICROSOFT-CDO-ALLDAYEVENT:FALSE
SUMMARY:L&L: Get Financially Fit
DESCRIPTION:L&L: Get Financially Fit in the New Year (MS College-Flowood\, 151 Laurel Park Cove\, Flowood) Hosted and Presented by BankPlus.\n\n\n\nNo cost to attend but must RSVP in advance to Ashley Coley at acoley@rankinchamber.com
X-ALT-DESC;FMTTYPE=text/html:L&amp\;L: Get Financially Fit in the New Year (MS College-Flowood\, 151 Laurel Park Cove\, Flowood) Hosted and Presented by BankPlus.<br />\n<br />\nNo cost to attend but must RSVP in advance to Ashley Coley at acoley@rankinchamber.com
LOCATION:
UID:e.1412.571
SEQUENCE:3
DTSTAMP:20260422T184038Z
URL:https://business.rankinchamber.com/events/details/l-l-get-financially-fit-01-23-2014-571
END:VEVENT

END:VCALENDAR
