BEGIN:VCALENDAR
VERSION:2.0
PRODID:-//ChamberMaster//Event Calendar 2.0//EN
METHOD:PUBLISH
X-PUBLISHED-TTL:P3D
REFRESH-INTERVAL:P3D
CALSCALE:GREGORIAN
BEGIN:VEVENT
DTSTART:20141114T170000Z
DTEND:20141114T190000Z
X-MICROSOFT-CDO-ALLDAYEVENT:FALSE
SUMMARY:L&L: The Power of Your Brand
DESCRIPTION:L&L: The Power of Your Brand (Virginia College\, 5841 Ridgewood Rd\, Jackson)
X-ALT-DESC;FMTTYPE=text/html:L&amp\;L: The Power of Your Brand (Virginia College\, 5841 Ridgewood Rd\, Jackson)
LOCATION:
UID:e.1412.752
SEQUENCE:3
DTSTAMP:20260422T025836Z
URL:https://business.rankinchamber.com/events/details/l-l-the-power-of-your-brand-11-14-2014-752
END:VEVENT

END:VCALENDAR
