BEGIN:VCALENDAR
VERSION:2.0
PRODID:-//ChamberMaster//Event Calendar 2.0//EN
METHOD:PUBLISH
X-PUBLISHED-TTL:P3D
REFRESH-INTERVAL:P3D
CALSCALE:GREGORIAN
BEGIN:VEVENT
DTSTART;VALUE=DATE:20130902
DTEND;VALUE=DATE:20130903
TRANSP:TRANSPARENT
X-MICROSOFT-CDO-ALLDAYEVENT:TRUE
SUMMARY:Labor Day (Chamber closed)
DESCRIPTION:Labor Day (Chamber office closed in observance)
X-ALT-DESC;FMTTYPE=text/html:Labor Day (Chamber office closed in observance)
LOCATION:
UID:e.1412.461
SEQUENCE:3
DTSTAMP:20260423T013653Z
URL:https://business.rankinchamber.com/events/details/labor-day-chamber-closed-09-02-2013-461
END:VEVENT

END:VCALENDAR
