BEGIN:VCALENDAR
VERSION:2.0
PRODID:-//ChamberMaster//Event Calendar 2.0//EN
METHOD:PUBLISH
X-PUBLISHED-TTL:P3D
REFRESH-INTERVAL:P3D
CALSCALE:GREGORIAN
BEGIN:VEVENT
DTSTART:20120621T163000Z
DTEND:20120621T180000Z
X-MICROSOFT-CDO-ALLDAYEVENT:FALSE
SUMMARY:LC: Table 100
DESCRIPTION:Lunch Club: How to Engage all Generations in your Business\n\nDutch Treat\n\nSeating is limited - please RSVP to events@rankinchamber.com
X-ALT-DESC;FMTTYPE=text/html:<strong><span style="font-size: 12px"><span style="font-family: comic sans ms">Lunch Club:&nbsp\;How to Engage all Generations&nbsp\;in your Business<br />\nDutch Treat<br />\nSeating is limited - please&nbsp\;RSVP to events@rankinchamber.com</span></span></strong>
LOCATION:Table 100 (100 Ridge Way Flowood\, MS 39232)
UID:e.1412.135
SEQUENCE:3
DTSTAMP:20260422T012156Z
URL:https://business.rankinchamber.com/events/details/lc-table-100-06-21-2012-135
END:VEVENT

END:VCALENDAR
