BEGIN:VCALENDAR
VERSION:2.0
PRODID:-//ChamberMaster//Event Calendar 2.0//EN
METHOD:PUBLISH
X-PUBLISHED-TTL:P3D
REFRESH-INTERVAL:P3D
CALSCALE:GREGORIAN
BEGIN:VEVENT
DTSTART;VALUE=DATE:20140722
DTEND;VALUE=DATE:20140723
TRANSP:TRANSPARENT
X-MICROSOFT-CDO-ALLDAYEVENT:TRUE
SUMMARY:Leadership Planning Meeting
DESCRIPTION:Leadership Rankin Planning Meeting\n\n(Hinds CC Board Room)
X-ALT-DESC;FMTTYPE=text/html:Leadership Rankin Planning Meeting<br />\n(Hinds CC Board Room)
LOCATION:
UID:e.1412.671
SEQUENCE:3
DTSTAMP:20260422T092141Z
URL:https://business.rankinchamber.com/events/details/leadership-planning-meeting-07-22-2014-671
END:VEVENT

END:VCALENDAR
