BEGIN:VCALENDAR
VERSION:2.0
PRODID:-//ChamberMaster//Event Calendar 2.0//EN
METHOD:PUBLISH
X-PUBLISHED-TTL:P3D
REFRESH-INTERVAL:P3D
CALSCALE:GREGORIAN
BEGIN:VEVENT
DTSTART;VALUE=DATE:20150121
DTEND;VALUE=DATE:20150122
TRANSP:TRANSPARENT
X-MICROSOFT-CDO-ALLDAYEVENT:TRUE
SUMMARY:Leadership Rankin
DESCRIPTION:Leadership Rankin (State Government Day)
X-ALT-DESC;FMTTYPE=text/html:Leadership Rankin (State Government Day)
LOCATION:
UID:e.1412.793
SEQUENCE:3
DTSTAMP:20260421T234409Z
URL:https://business.rankinchamber.com/events/details/leadership-rankin-01-21-2015-793
END:VEVENT

END:VCALENDAR
