BEGIN:VCALENDAR
VERSION:2.0
PRODID:-//ChamberMaster//Event Calendar 2.0//EN
METHOD:PUBLISH
X-PUBLISHED-TTL:P3D
REFRESH-INTERVAL:P3D
CALSCALE:GREGORIAN
BEGIN:VEVENT
DTSTART;VALUE=DATE:20131106
DTEND;VALUE=DATE:20131107
TRANSP:TRANSPARENT
X-MICROSOFT-CDO-ALLDAYEVENT:TRUE
SUMMARY:Leadership Rankin (Education Day)
DESCRIPTION:Leadership Rankin (Education Day)
X-ALT-DESC;FMTTYPE=text/html:Leadership Rankin (Education Day)
LOCATION:
UID:e.1412.514
SEQUENCE:3
DTSTAMP:20260422T220235Z
URL:https://business.rankinchamber.com/events/details/leadership-rankin-education-day-11-06-2013-514
END:VEVENT

END:VCALENDAR
