BEGIN:VCALENDAR
VERSION:2.0
PRODID:-//ChamberMaster//Event Calendar 2.0//EN
METHOD:PUBLISH
X-PUBLISHED-TTL:P3D
REFRESH-INTERVAL:P3D
CALSCALE:GREGORIAN
BEGIN:VEVENT
DTSTART;VALUE=DATE:20130815
DTEND;VALUE=DATE:20130817
TRANSP:TRANSPARENT
X-MICROSOFT-CDO-ALLDAYEVENT:TRUE
SUMMARY:Leadership Rankin Retreat
DESCRIPTION:Leadership Rankin Retreat (Twin Lakes Conference Center\, Florence)
X-ALT-DESC;FMTTYPE=text/html:Leadership Rankin Retreat (Twin Lakes Conference Center\, Florence)
LOCATION:
UID:e.1412.449
SEQUENCE:3
DTSTAMP:20260423T033538Z
URL:https://business.rankinchamber.com/events/details/leadership-rankin-retreat-08-15-2013-449
END:VEVENT

END:VCALENDAR
