BEGIN:VCALENDAR
VERSION:2.0
PRODID:-//ChamberMaster//Event Calendar 2.0//EN
METHOD:PUBLISH
X-PUBLISHED-TTL:P3D
REFRESH-INTERVAL:P3D
CALSCALE:GREGORIAN
BEGIN:VEVENT
DTSTART;VALUE=DATE:20130712
DTEND;VALUE=DATE:20130713
TRANSP:TRANSPARENT
X-MICROSOFT-CDO-ALLDAYEVENT:TRUE
SUMMARY:LR Application Deadline
DESCRIPTION:Leadership Rankin Application Deadline - 4:00 pm today.\n\nDeliver to Rankin Chamber office\, 101 Service Drive\, Brandon MS 39042\n\n\n\n(mail to: Rankin Chamber\, P O Box 428\, Brandon\, MS 39043)
X-ALT-DESC;FMTTYPE=text/html:Leadership Rankin Application Deadline - 4:00 pm today.<br />\nDeliver to Rankin Chamber office\, 101 Service Drive\, Brandon MS 39042<br />\n<br />\n(mail to: Rankin Chamber\, P O Box 428\, Brandon\, MS 39043)
LOCATION:
UID:e.1412.423
SEQUENCE:3
DTSTAMP:20260423T044254Z
URL:https://business.rankinchamber.com/events/details/lr-application-deadline-07-12-2013-423
END:VEVENT

END:VCALENDAR
