BEGIN:VCALENDAR
VERSION:2.0
PRODID:-//ChamberMaster//Event Calendar 2.0//EN
METHOD:PUBLISH
X-PUBLISHED-TTL:P3D
REFRESH-INTERVAL:P3D
CALSCALE:GREGORIAN
BEGIN:VEVENT
DTSTART;VALUE=DATE:20140917
DTEND;VALUE=DATE:20140918
TRANSP:TRANSPARENT
X-MICROSOFT-CDO-ALLDAYEVENT:TRUE
SUMMARY:LR: Health & Human Needs
DESCRIPTION:LR: Health & Human Needs
X-ALT-DESC;FMTTYPE=text/html:LR: Health &amp\; Human Needs
LOCATION:
UID:e.1412.711
SEQUENCE:3
DTSTAMP:20260422T060128Z
URL:https://business.rankinchamber.com/events/details/lr-health-human-needs-09-17-2014-711
END:VEVENT

END:VCALENDAR
