BEGIN:VCALENDAR
VERSION:2.0
PRODID:-//ChamberMaster//Event Calendar 2.0//EN
METHOD:PUBLISH
X-PUBLISHED-TTL:P3D
REFRESH-INTERVAL:P3D
CALSCALE:GREGORIAN
BEGIN:VEVENT
DTSTART;VALUE=DATE:20130911
DTEND;VALUE=DATE:20130912
TRANSP:TRANSPARENT
X-MICROSOFT-CDO-ALLDAYEVENT:TRUE
SUMMARY:LR: Qual of Life/Ag Day
DESCRIPTION:Leadership Rankin: Quality of Life/Ag Day
X-ALT-DESC;FMTTYPE=text/html:Leadership Rankin: Quality of Life/Ag Day
LOCATION:
UID:e.1412.469
SEQUENCE:3
DTSTAMP:20260423T014011Z
URL:https://business.rankinchamber.com/events/details/lr-qual-of-life-ag-day-09-11-2013-469
END:VEVENT

END:VCALENDAR
