BEGIN:VCALENDAR
VERSION:2.0
PRODID:-//ChamberMaster//Event Calendar 2.0//EN
METHOD:PUBLISH
X-PUBLISHED-TTL:P3D
REFRESH-INTERVAL:P3D
CALSCALE:GREGORIAN
BEGIN:VEVENT
DTSTART:20130807T163000Z
DTEND:20130807T180000Z
X-MICROSOFT-CDO-ALLDAYEVENT:FALSE
SUMMARY:LR Welcome Luncheon
DESCRIPTION:LR Welcome Social (Community Bank\, 1255 W. Government St\, Brandon)
X-ALT-DESC;FMTTYPE=text/html:LR Welcome Social (Community Bank\, 1255 W. Government St\, Brandon)
LOCATION:
UID:e.1412.442
SEQUENCE:3
DTSTAMP:20260423T032212Z
URL:https://business.rankinchamber.com/events/details/lr-welcome-luncheon-08-07-2013-442
END:VEVENT

END:VCALENDAR
