BEGIN:VCALENDAR
VERSION:2.0
PRODID:-//ChamberMaster//Event Calendar 2.0//EN
METHOD:PUBLISH
X-PUBLISHED-TTL:P3D
REFRESH-INTERVAL:P3D
CALSCALE:GREGORIAN
BEGIN:VEVENT
DTSTART:20120719T163000Z
DTEND:20120719T180000Z
X-MICROSOFT-CDO-ALLDAYEVENT:FALSE
SUMMARY:Lunch Club
DESCRIPTION:Lunch Club
X-ALT-DESC;FMTTYPE=text/html:Lunch Club
LOCATION:Kismets
UID:e.1412.155
SEQUENCE:3
DTSTAMP:20260422T025325Z
URL:https://business.rankinchamber.com/events/details/lunch-club-07-19-2012-155
END:VEVENT

END:VCALENDAR
