BEGIN:VCALENDAR
VERSION:2.0
PRODID:-//ChamberMaster//Event Calendar 2.0//EN
METHOD:PUBLISH
X-PUBLISHED-TTL:P3D
REFRESH-INTERVAL:P3D
CALSCALE:GREGORIAN
BEGIN:VEVENT
DTSTART:20120816T163000Z
DTEND:20120816T180000Z
X-MICROSOFT-CDO-ALLDAYEVENT:FALSE
SUMMARY:Lunch Club
DESCRIPTION:Lunch Club\n\nFacebook Marketing Ideas\n\nSpeaker: Jeff Rutland (Socially Alive)
X-ALT-DESC;FMTTYPE=text/html:Lunch Club<br />\nFacebook Marketing Ideas<br />\nSpeaker: Jeff Rutland (Socially Alive)
LOCATION:Uncle Buck's 100 Bass Pro Drive\, Pearl
UID:e.1412.171
SEQUENCE:3
DTSTAMP:20260422T042541Z
URL:https://business.rankinchamber.com/events/details/lunch-club-08-16-2012-171
END:VEVENT

END:VCALENDAR
