BEGIN:VCALENDAR
VERSION:2.0
PRODID:-//ChamberMaster//Event Calendar 2.0//EN
METHOD:PUBLISH
X-PUBLISHED-TTL:P3D
REFRESH-INTERVAL:P3D
CALSCALE:GREGORIAN
BEGIN:VEVENT
DTSTART:20120911T163000Z
DTEND:20120911T180000Z
X-MICROSOFT-CDO-ALLDAYEVENT:FALSE
SUMMARY:Lunch Club
DESCRIPTION:Networking opportunity along with a guest speaker \n\n\n\nSpeaker: Dr. Fowler \n\nTopic: Three Secrets to Dealing with Stress
X-ALT-DESC;FMTTYPE=text/html:Networking opportunity along with a guest speaker&nbsp\;<br />\n<br />\nSpeaker: Dr. Fowler&nbsp\;<br />\nTopic: Three Secrets to Dealing with Stress<br />\n<br />\n<br />\n<br />\n
LOCATION:Penn's of Brandon
UID:e.1412.184
SEQUENCE:3
DTSTAMP:20260422T055922Z
URL:https://business.rankinchamber.com/events/details/lunch-club-09-11-2012-184
END:VEVENT

END:VCALENDAR
