BEGIN:VCALENDAR
VERSION:2.0
PRODID:-//ChamberMaster//Event Calendar 2.0//EN
METHOD:PUBLISH
X-PUBLISHED-TTL:P3D
REFRESH-INTERVAL:P3D
CALSCALE:GREGORIAN
BEGIN:VEVENT
DTSTART:20121023T163000Z
DTEND:20121023T180000Z
X-MICROSOFT-CDO-ALLDAYEVENT:FALSE
SUMMARY:Lunch Club
DESCRIPTION:Networking opportunity
X-ALT-DESC;FMTTYPE=text/html:Networking opportunity&nbsp\;
LOCATION:Sal & Mookies (565 Taylor Street Jackson\, MS 39216)
UID:e.1412.230
SEQUENCE:3
DTSTAMP:20260422T073829Z
URL:https://business.rankinchamber.com/events/details/lunch-club-10-23-2012-230
END:VEVENT

END:VCALENDAR
