BEGIN:VCALENDAR
VERSION:2.0
PRODID:-//ChamberMaster//Event Calendar 2.0//EN
METHOD:PUBLISH
X-PUBLISHED-TTL:P3D
REFRESH-INTERVAL:P3D
CALSCALE:GREGORIAN
BEGIN:VEVENT
DTSTART:20120906T163000Z
DTEND:20120906T180000Z
X-MICROSOFT-CDO-ALLDAYEVENT:FALSE
SUMMARY:Lunch & Learn
DESCRIPTION:Things Every Business Should Know! \n\n\n\nTopic: Business Strategies\n\nSpeaker: James Bennett
X-ALT-DESC;FMTTYPE=text/html:Things Every Business Should Know!&nbsp\;<br />\n<br />\nTopic:&nbsp\;<span style="font-family:verdana\,sans-serif\;"><span style="font-size:10.0pt\;">Business Strategies<br />\nSpeaker: James Bennett</span></span><br />\n<br />\n
LOCATION:Brandon Library
UID:e.1412.178
SEQUENCE:3
DTSTAMP:20260422T055046Z
URL:https://business.rankinchamber.com/events/details/lunch-learn-09-06-2012-178
END:VEVENT

END:VCALENDAR
