BEGIN:VCALENDAR
VERSION:2.0
PRODID:-//ChamberMaster//Event Calendar 2.0//EN
METHOD:PUBLISH
X-PUBLISHED-TTL:P3D
REFRESH-INTERVAL:P3D
CALSCALE:GREGORIAN
BEGIN:VEVENT
DTSTART:20121018T163000Z
DTEND:20121018T180000Z
X-MICROSOFT-CDO-ALLDAYEVENT:FALSE
SUMMARY:Lunch & Learn
DESCRIPTION:Financial Accounting with Ken Walker
X-ALT-DESC;FMTTYPE=text/html:Financial Accounting with Ken Walker
LOCATION:Brandon Library
UID:e.1412.192
SEQUENCE:3
DTSTAMP:20260422T073619Z
URL:https://business.rankinchamber.com/events/details/lunch-learn-10-18-2012-192
END:VEVENT

END:VCALENDAR
