BEGIN:VCALENDAR
VERSION:2.0
PRODID:-//ChamberMaster//Event Calendar 2.0//EN
METHOD:PUBLISH
X-PUBLISHED-TTL:P3D
REFRESH-INTERVAL:P3D
CALSCALE:GREGORIAN
BEGIN:VEVENT
DTSTART;VALUE=DATE:20150119
DTEND;VALUE=DATE:20150120
TRANSP:TRANSPARENT
X-MICROSOFT-CDO-ALLDAYEVENT:TRUE
SUMMARY:M. L. King Day (Chamber closed)
DESCRIPTION:M. L. King Day (Chamber closed in observance)
X-ALT-DESC;FMTTYPE=text/html:M. L. King Day (Chamber closed in observance)
LOCATION:
UID:e.1412.797
SEQUENCE:3
DTSTAMP:20260421T234710Z
URL:https://business.rankinchamber.com/events/details/m-l-king-day-chamber-closed-01-19-2015-797
END:VEVENT

END:VCALENDAR
