BEGIN:VCALENDAR
VERSION:2.0
PRODID:-//ChamberMaster//Event Calendar 2.0//EN
METHOD:PUBLISH
X-PUBLISHED-TTL:P3D
REFRESH-INTERVAL:P3D
CALSCALE:GREGORIAN
BEGIN:VEVENT
DTSTART:20130507T131500Z
DTEND:20130507T141500Z
X-MICROSOFT-CDO-ALLDAYEVENT:FALSE
SUMMARY:Marketing Committee Meeting\, Chamber
DESCRIPTION:Marketing Committee Meeting ( Chamber )
X-ALT-DESC;FMTTYPE=text/html:Marketing Committee Meeting (&nbsp\;Chamber )
LOCATION:
UID:e.1412.356
SEQUENCE:3
DTSTAMP:20260423T075530Z
URL:https://business.rankinchamber.com/events/details/marketing-committee-meeting-chamber-05-07-2013-356
END:VEVENT

END:VCALENDAR
