BEGIN:VCALENDAR
VERSION:2.0
PRODID:-//ChamberMaster//Event Calendar 2.0//EN
METHOD:PUBLISH
X-PUBLISHED-TTL:P3D
REFRESH-INTERVAL:P3D
CALSCALE:GREGORIAN
BEGIN:VEVENT
DTSTART:20151006T131500Z
DTEND:20151006T141500Z
X-MICROSOFT-CDO-ALLDAYEVENT:FALSE
SUMMARY:Marketing/Events Committee
DESCRIPTION:Marketing/Events Committee (Chamber)
X-ALT-DESC;FMTTYPE=text/html:Marketing/Events Committee (Chamber)
LOCATION:
UID:e.1412.1997
SEQUENCE:3
DTSTAMP:20260421T084921Z
URL:https://business.rankinchamber.com/events/details/marketing-events-committee-10-06-2015-1997
END:VEVENT

END:VCALENDAR
