BEGIN:VCALENDAR
VERSION:2.0
PRODID:-//ChamberMaster//Event Calendar 2.0//EN
METHOD:PUBLISH
X-PUBLISHED-TTL:P3D
REFRESH-INTERVAL:P3D
CALSCALE:GREGORIAN
BEGIN:VEVENT
DTSTART:20120606T143000Z
DTEND:20120606T153000Z
X-MICROSOFT-CDO-ALLDAYEVENT:FALSE
SUMMARY:Marketing/Technology Committee
DESCRIPTION:Marketing/Technology Committee (Corner Bakery\, 108 Market St\, Flowood)
X-ALT-DESC;FMTTYPE=text/html:Marketing/Technology Committee (Corner Bakery\, 108 Market St\, Flowood)
LOCATION:
UID:e.1412.144
SEQUENCE:3
DTSTAMP:20260422T012431Z
URL:https://business.rankinchamber.com/events/details/marketing-technology-committee-06-06-2012-144
END:VEVENT

END:VCALENDAR
