BEGIN:VCALENDAR
VERSION:2.0
PRODID:-//ChamberMaster//Event Calendar 2.0//EN
METHOD:PUBLISH
X-PUBLISHED-TTL:P3D
REFRESH-INTERVAL:P3D
CALSCALE:GREGORIAN
BEGIN:VEVENT
DTSTART:20130108T173000Z
DTEND:20130108T183000Z
X-MICROSOFT-CDO-ALLDAYEVENT:FALSE
SUMMARY:Membership Committee
DESCRIPTION:Membership Committee (Miller's Grill & Pizzeria\, 2146 Hwy 471\, Brandon)
X-ALT-DESC;FMTTYPE=text/html:Membership Committee (Miller&#39\;s Grill &amp\; Pizzeria\, 2146 Hwy 471\, Brandon)
LOCATION:
UID:e.1412.279
SEQUENCE:3
DTSTAMP:20260423T152641Z
URL:https://business.rankinchamber.com/events/details/membership-committee-01-08-2013-279
END:VEVENT

END:VCALENDAR
