BEGIN:VCALENDAR
VERSION:2.0
PRODID:-//ChamberMaster//Event Calendar 2.0//EN
METHOD:PUBLISH
X-PUBLISHED-TTL:P3D
REFRESH-INTERVAL:P3D
CALSCALE:GREGORIAN
BEGIN:VEVENT
DTSTART:20150210T173000Z
DTEND:20150210T190000Z
X-MICROSOFT-CDO-ALLDAYEVENT:FALSE
SUMMARY:Membership Committee
DESCRIPTION:Membership Committee (Mugshots\, Flowood)
X-ALT-DESC;FMTTYPE=text/html:Membership Committee (Mugshots\, Flowood)
LOCATION:
UID:e.1412.1028
SEQUENCE:3
DTSTAMP:20260421T220223Z
URL:https://business.rankinchamber.com/events/details/membership-committee-02-10-2015-1028
END:VEVENT

END:VCALENDAR
