BEGIN:VCALENDAR
VERSION:2.0
PRODID:-//ChamberMaster//Event Calendar 2.0//EN
METHOD:PUBLISH
X-PUBLISHED-TTL:P3D
REFRESH-INTERVAL:P3D
CALSCALE:GREGORIAN
BEGIN:VEVENT
DTSTART:20140325T141500Z
DTEND:20140325T141500Z
X-MICROSOFT-CDO-ALLDAYEVENT:FALSE
SUMMARY:Membership Committee
DESCRIPTION:Membership Committee (Brandon Library\, 1475 W. Government St\, Brandon) Immediately following New Member Orientation
X-ALT-DESC;FMTTYPE=text/html:Membership Committee (Brandon Library\, 1475 W. Government St\, Brandon) Immediately following New Member Orientation
LOCATION:
UID:e.1412.605
SEQUENCE:3
DTSTAMP:20260422T155447Z
URL:https://business.rankinchamber.com/events/details/membership-committee-03-25-2014-605
END:VEVENT

END:VCALENDAR
