BEGIN:VCALENDAR
VERSION:2.0
PRODID:-//ChamberMaster//Event Calendar 2.0//EN
METHOD:PUBLISH
X-PUBLISHED-TTL:P3D
REFRESH-INTERVAL:P3D
CALSCALE:GREGORIAN
BEGIN:VEVENT
DTSTART:20150414T163000Z
DTEND:20150414T180000Z
X-MICROSOFT-CDO-ALLDAYEVENT:FALSE
SUMMARY:Membership Committee
DESCRIPTION:Membership Committee (Corner Bakery\, Flowood)
X-ALT-DESC;FMTTYPE=text/html:Membership Committee (Corner Bakery\, Flowood)
LOCATION:
UID:e.1412.1910
SEQUENCE:3
DTSTAMP:20260421T185242Z
URL:https://business.rankinchamber.com/events/details/membership-committee-04-14-2015-1910
END:VEVENT

END:VCALENDAR
