BEGIN:VCALENDAR
VERSION:2.0
PRODID:-//ChamberMaster//Event Calendar 2.0//EN
METHOD:PUBLISH
X-PUBLISHED-TTL:P3D
REFRESH-INTERVAL:P3D
CALSCALE:GREGORIAN
BEGIN:VEVENT
DTSTART:20140610T163000Z
DTEND:20140610T180000Z
X-MICROSOFT-CDO-ALLDAYEVENT:FALSE
SUMMARY:Membership Committee
DESCRIPTION:Tues\, Jun 10\, 11:30 am\n\nMembership Committee (Millers Grill & Pizzeria\, 2146 Hwy 471\, Brandon)
X-ALT-DESC;FMTTYPE=text/html:<span style="font-family:verdana\,sans-serif\;"><span style="font-size:10.0pt\;">Tues\, Jun 10\, 11:30 am<br />\nMembership Committee (Millers Grill &amp\; Pizzeria\, 2146 Hwy 471\, Brandon)</span></span>
LOCATION:
UID:e.1412.655
SEQUENCE:3
DTSTAMP:20260422T105033Z
URL:https://business.rankinchamber.com/events/details/membership-committee-06-10-2014-655
END:VEVENT

END:VCALENDAR
