BEGIN:VCALENDAR
VERSION:2.0
PRODID:-//ChamberMaster//Event Calendar 2.0//EN
METHOD:PUBLISH
X-PUBLISHED-TTL:P3D
REFRESH-INTERVAL:P3D
CALSCALE:GREGORIAN
BEGIN:VEVENT
DTSTART:20140812T163000Z
DTEND:20140812T180000Z
X-MICROSOFT-CDO-ALLDAYEVENT:FALSE
SUMMARY:Membership Committee
DESCRIPTION:Membership Committee (Sal & Mookies\, 565 Taylor St\, Jackson)
X-ALT-DESC;FMTTYPE=text/html:Membership Committee (Sal &amp\; Mookies\, 565 Taylor St\, Jackson)
LOCATION:
UID:e.1412.680
SEQUENCE:3
DTSTAMP:20260422T073750Z
URL:https://business.rankinchamber.com/events/details/membership-committee-08-12-2014-680
END:VEVENT

END:VCALENDAR
