BEGIN:VCALENDAR
VERSION:2.0
PRODID:-//ChamberMaster//Event Calendar 2.0//EN
METHOD:PUBLISH
X-PUBLISHED-TTL:P3D
REFRESH-INTERVAL:P3D
CALSCALE:GREGORIAN
BEGIN:VEVENT
DTSTART:20121009T163000Z
DTEND:20121009T053000Z
X-MICROSOFT-CDO-ALLDAYEVENT:FALSE
SUMMARY:Membership Committee Meeting
DESCRIPTION:Committee meeting
X-ALT-DESC;FMTTYPE=text/html:Committee meeting&nbsp\;
LOCATION:Corner Bakery at Dogwood in Flowood\, MS
UID:e.1412.191
SEQUENCE:3
DTSTAMP:20260422T073952Z
URL:https://business.rankinchamber.com/events/details/membership-committee-meeting-10-09-2012-191
END:VEVENT

END:VCALENDAR
