BEGIN:VCALENDAR
VERSION:2.0
PRODID:-//ChamberMaster//Event Calendar 2.0//EN
METHOD:PUBLISH
X-PUBLISHED-TTL:P3D
REFRESH-INTERVAL:P3D
CALSCALE:GREGORIAN
BEGIN:VEVENT
DTSTART:20141117T141500Z
DTEND:20141117T151500Z
X-MICROSOFT-CDO-ALLDAYEVENT:FALSE
SUMMARY:Membership Orientation
DESCRIPTION:Membership Orientation (Brandon Library\, 1475 W. Government St\, Brandon)
X-ALT-DESC;FMTTYPE=text/html:Membership Orientation (Brandon Library\, 1475 W. Government St\, Brandon)
LOCATION:
UID:e.1412.753
SEQUENCE:3
DTSTAMP:20260422T024908Z
URL:https://business.rankinchamber.com/events/details/membership-orientation-11-17-2014-753
END:VEVENT

END:VCALENDAR
