BEGIN:VCALENDAR
VERSION:2.0
PRODID:-//ChamberMaster//Event Calendar 2.0//EN
METHOD:PUBLISH
X-PUBLISHED-TTL:P3D
REFRESH-INTERVAL:P3D
CALSCALE:GREGORIAN
BEGIN:VEVENT
DTSTART:20140805T150000Z
DTEND:20140805T190000Z
X-MICROSOFT-CDO-ALLDAYEVENT:FALSE
SUMMARY:MS Telco Back to School Open House
DESCRIPTION:MS Telco Back to School Open House (409 Riverwind Dr\, Pearl) across from Cracker Barrel in Pearl
X-ALT-DESC;FMTTYPE=text/html:MS Telco Back to School Open House (409 Riverwind Dr\, Pearl) across from Cracker Barrel in Pearl
LOCATION:
UID:e.1412.689
SEQUENCE:3
DTSTAMP:20260422T073921Z
URL:https://business.rankinchamber.com/events/details/ms-telco-back-to-school-open-house-08-05-2014-689
END:VEVENT

END:VCALENDAR
