BEGIN:VCALENDAR
VERSION:2.0
PRODID:-//ChamberMaster//Event Calendar 2.0//EN
METHOD:PUBLISH
X-PUBLISHED-TTL:P3D
REFRESH-INTERVAL:P3D
CALSCALE:GREGORIAN
BEGIN:VEVENT
DTSTART:20140325T133000Z
DTEND:20140325T141500Z
X-MICROSOFT-CDO-ALLDAYEVENT:FALSE
SUMMARY:New Member Orientation
DESCRIPTION:New Member Orientation (Brandon Library\, 1475 W. Government St\, Brandon)\n\nPlease RSVP to Ashlee at acoley@rankinchamber.com
X-ALT-DESC;FMTTYPE=text/html:New Member Orientation (Brandon Library\, 1475 W. Government St\, Brandon)<br />\nPlease RSVP to Ashlee at acoley@rankinchamber.com
LOCATION:
UID:e.1412.604
SEQUENCE:3
DTSTAMP:20260422T155504Z
URL:https://business.rankinchamber.com/events/details/new-member-orientation-03-25-2014-604
END:VEVENT

END:VCALENDAR
