BEGIN:VCALENDAR
VERSION:2.0
PRODID:-//ChamberMaster//Event Calendar 2.0//EN
METHOD:PUBLISH
X-PUBLISHED-TTL:P3D
REFRESH-INTERVAL:P3D
CALSCALE:GREGORIAN
BEGIN:VEVENT
DTSTART:20120710T133000Z
DTEND:20120710T143000Z
X-MICROSOFT-CDO-ALLDAYEVENT:FALSE
SUMMARY:New Member Orientation
DESCRIPTION:New Member Orientation
X-ALT-DESC;FMTTYPE=text/html:<u><span style="font-size: 12px"><span style="font-family: comic sans ms">New Member Orientation</span></span></u>
LOCATION:Brandon Library
UID:e.1412.152
SEQUENCE:3
DTSTAMP:20260422T024841Z
URL:https://business.rankinchamber.com/events/details/new-member-orientation-07-10-2012-152
END:VEVENT

END:VCALENDAR
