BEGIN:VCALENDAR
VERSION:2.0
PRODID:-//ChamberMaster//Event Calendar 2.0//EN
METHOD:PUBLISH
X-PUBLISHED-TTL:P3D
REFRESH-INTERVAL:P3D
CALSCALE:GREGORIAN
BEGIN:VEVENT
DTSTART:20130821T133000Z
DTEND:20130821T143000Z
X-MICROSOFT-CDO-ALLDAYEVENT:FALSE
SUMMARY:New Member Orientation
DESCRIPTION:New Member Orientation (Brandon Library\, 1475 W. Government St\, Brandon)
X-ALT-DESC;FMTTYPE=text/html:New Member Orientation (Brandon Library\, 1475 W. Government St\, Brandon)
LOCATION:
UID:e.1412.451
SEQUENCE:3
DTSTAMP:20260423T032217Z
URL:https://business.rankinchamber.com/events/details/new-member-orientation-08-21-2013-451
END:VEVENT

END:VCALENDAR
