BEGIN:VCALENDAR
VERSION:2.0
PRODID:-//ChamberMaster//Event Calendar 2.0//EN
METHOD:PUBLISH
X-PUBLISHED-TTL:P3D
REFRESH-INTERVAL:P3D
CALSCALE:GREGORIAN
BEGIN:VEVENT
DTSTART;VALUE=DATE:20150101
DTEND;VALUE=DATE:20150102
TRANSP:TRANSPARENT
X-MICROSOFT-CDO-ALLDAYEVENT:TRUE
SUMMARY:New Years Day (Chamber closed)
DESCRIPTION:New Years Day (Chamber closed)
X-ALT-DESC;FMTTYPE=text/html:New Years Day (Chamber closed)
LOCATION:
UID:e.1412.779
SEQUENCE:3
DTSTAMP:20260421T234709Z
URL:https://business.rankinchamber.com/events/details/new-years-day-chamber-closed-01-01-2015-779
END:VEVENT

END:VCALENDAR
