BEGIN:VCALENDAR
VERSION:2.0
PRODID:-//ChamberMaster//Event Calendar 2.0//EN
METHOD:PUBLISH
X-PUBLISHED-TTL:P3D
REFRESH-INTERVAL:P3D
CALSCALE:GREGORIAN
BEGIN:VEVENT
DTSTART;VALUE=DATE:20141205
DTEND;VALUE=DATE:20141206
TRANSP:TRANSPARENT
X-MICROSOFT-CDO-ALLDAYEVENT:TRUE
SUMMARY:(NO) 1st Fridays for Seniors
DESCRIPTION:(NO) 1st Fridays for Seniors
X-ALT-DESC;FMTTYPE=text/html:(NO) 1st Fridays for Seniors
LOCATION:
UID:e.1412.770
SEQUENCE:3
DTSTAMP:20260422T012913Z
URL:https://business.rankinchamber.com/events/details/no-1st-fridays-for-seniors-12-05-2014-770
END:VEVENT

END:VCALENDAR
