BEGIN:VCALENDAR
VERSION:2.0
PRODID:-//ChamberMaster//Event Calendar 2.0//EN
METHOD:PUBLISH
X-PUBLISHED-TTL:P3D
REFRESH-INTERVAL:P3D
CALSCALE:GREGORIAN
BEGIN:VEVENT
DTSTART:20121016T150000Z
DTEND:20121016T160000Z
X-MICROSOFT-CDO-ALLDAYEVENT:FALSE
SUMMARY:(NO) AMB Committee Meeting
DESCRIPTION:
X-ALT-DESC;FMTTYPE=text/html:
LOCATION:Rankin County Chamber of Commerce 101 Service Drive Brandon\, MS 39232
UID:e.1412.238
SEQUENCE:3
DTSTAMP:20260422T074003Z
URL:https://business.rankinchamber.com/events/details/no-amb-committee-meeting-10-16-2012-238
END:VEVENT

END:VCALENDAR
