BEGIN:VCALENDAR
VERSION:2.0
PRODID:-//ChamberMaster//Event Calendar 2.0//EN
METHOD:PUBLISH
X-PUBLISHED-TTL:P3D
REFRESH-INTERVAL:P3D
CALSCALE:GREGORIAN
BEGIN:VEVENT
DTSTART;VALUE=DATE:20140710
DTEND;VALUE=DATE:20140711
TRANSP:TRANSPARENT
X-MICROSOFT-CDO-ALLDAYEVENT:TRUE
SUMMARY:(NO) Ambassador Meeting
DESCRIPTION:(NO) Ambassador Meeting for July
X-ALT-DESC;FMTTYPE=text/html:(NO) Ambassador Meeting for July
LOCATION:
UID:e.1412.663
SEQUENCE:3
DTSTAMP:20260422T092052Z
URL:https://business.rankinchamber.com/events/details/no-ambassador-meeting-07-10-2014-663
END:VEVENT

END:VCALENDAR
