BEGIN:VCALENDAR
VERSION:2.0
PRODID:-//ChamberMaster//Event Calendar 2.0//EN
METHOD:PUBLISH
X-PUBLISHED-TTL:P3D
REFRESH-INTERVAL:P3D
CALSCALE:GREGORIAN
BEGIN:VEVENT
DTSTART:20140304T141500Z
DTEND:20140304T151500Z
X-MICROSOFT-CDO-ALLDAYEVENT:FALSE
SUMMARY:(NO) Marketing Committee
DESCRIPTION:Marketing Committee (NO March Marketing Meeting)
X-ALT-DESC;FMTTYPE=text/html:Marketing Committee (NO March Marketing Meeting)
LOCATION:
UID:e.1412.594
SEQUENCE:3
DTSTAMP:20260422T173832Z
URL:https://business.rankinchamber.com/events/details/no-marketing-committee-03-04-2014-594
END:VEVENT

END:VCALENDAR
