BEGIN:VCALENDAR
VERSION:2.0
PRODID:-//ChamberMaster//Event Calendar 2.0//EN
METHOD:PUBLISH
X-PUBLISHED-TTL:P3D
REFRESH-INTERVAL:P3D
CALSCALE:GREGORIAN
BEGIN:VEVENT
DTSTART:20140909T153000Z
DTEND:20140909T160000Z
X-MICROSOFT-CDO-ALLDAYEVENT:FALSE
SUMMARY:(NO) RC: Hopper Properties (POSTPONED)
DESCRIPTION:(NO) RC: Hopper Properties (26 East Gate Drive\, Brandon)\n\nPostponed to a later date....
X-ALT-DESC;FMTTYPE=text/html:(NO) RC: Hopper Properties (26 East Gate Drive\, Brandon)<br />\nPostponed to a later date....
LOCATION:
UID:e.1412.702
SEQUENCE:3
DTSTAMP:20260422T060901Z
URL:https://business.rankinchamber.com/events/details/no-rc-hopper-properties-postponed-09-09-2014-702
END:VEVENT

END:VCALENDAR
