BEGIN:VCALENDAR
VERSION:2.0
PRODID:-//ChamberMaster//Event Calendar 2.0//EN
METHOD:PUBLISH
X-PUBLISHED-TTL:P3D
REFRESH-INTERVAL:P3D
CALSCALE:GREGORIAN
BEGIN:VEVENT
DTSTART:20130529T140000Z
DTEND:20130530T023000Z
X-MICROSOFT-CDO-ALLDAYEVENT:FALSE
SUMMARY:OH: Belk Flowood
DESCRIPTION:Belk-Flowood 125th Anniversary Celebration
X-ALT-DESC;FMTTYPE=text/html:Belk-Flowood&nbsp\;125th Anniversary Celebration
LOCATION:
UID:e.1412.391
SEQUENCE:3
DTSTAMP:20260423T075035Z
URL:https://business.rankinchamber.com/events/details/oh-belk-flowood-05-29-2013-391
END:VEVENT

END:VCALENDAR
